BEGIN:VCALENDAR
VERSION:2.0
PRODID:-//JobStars USA - ECPv6.15.18//NONSGML v1.0//EN
CALSCALE:GREGORIAN
METHOD:PUBLISH
X-ORIGINAL-URL:https://jobstars.com
X-WR-CALDESC:Events for JobStars USA
REFRESH-INTERVAL;VALUE=DURATION:PT1H
X-Robots-Tag:noindex
X-PUBLISHED-TTL:PT1H
BEGIN:VTIMEZONE
TZID:UTC
BEGIN:STANDARD
TZOFFSETFROM:+0000
TZOFFSETTO:+0000
TZNAME:UTC
DTSTART:20250101T000000
END:STANDARD
END:VTIMEZONE
BEGIN:VEVENT
DTSTART;VALUE=DATE:20260609
DTEND;VALUE=DATE:20260612
DTSTAMP:20260424T104709
CREATED:20251204T021047Z
LAST-MODIFIED:20251204T021047Z
UID:300810-1780963200-1781222399@jobstars.com
SUMMARY:SGMP National Education Conference
DESCRIPTION:SGMP National Education Conference\, hosted by the Society of Government Meeting Professionals\, brings together meeting planners\, suppliers\, and industry experts for educational sessions\, workshops\, and networking. Attendees gain insights into the latest strategies in government meetings\, event planning\, and professional development\, with opportunities to earn continuing education credits. Key industries represented include government relations\, event planning\, hospitality\, and professional associations. Click the link below to learn more and register for this event.
URL:https://jobstars.com/event/sgmp-national-education-conference/
LOCATION:Williamsburg\, VA
CATEGORIES:Professional Conference
ATTACH;FMTTYPE=image/jpeg:https://jobstars.com/wp-content/uploads/2021/12/Society-of-Government-Meeting-Professionals.jpg
END:VEVENT
BEGIN:VEVENT
DTSTART;VALUE=DATE:20260625
DTEND;VALUE=DATE:20260630
DTSTAMP:20260424T104709
CREATED:20211204T150322Z
LAST-MODIFIED:20250901T230032Z
UID:29667-1782345600-1782777599@jobstars.com
SUMMARY:ALA Annual Conference
DESCRIPTION:ALA Annual Conference hosted by the American Library Association is a leading event for library professionals\, focusing on the latest trends\, technologies\, and best practices in library services and information management. The most common attendees include librarians\, library directors\, information specialists\, educators\, and vendors. Key industries represented are libraries\, education\, publishing\, and information technology. The event offers educational sessions\, networking opportunities\, and insights into the future of library services and innovation. Click the link below to learn more and register for this event. \nhttps://2026.alaannual.org/
URL:https://jobstars.com/event/ala-annual-conference/
LOCATION:Chicago\, IL
CATEGORIES:Professional Conference
ATTACH;FMTTYPE=image/png:https://jobstars.com/wp-content/uploads/2021/12/American-Library-Association.png
END:VEVENT
BEGIN:VEVENT
DTSTART;VALUE=DATE:20260628
DTEND;VALUE=DATE:20260702
DTSTAMP:20260424T104709
CREATED:20211204T150504Z
LAST-MODIFIED:20251128T050942Z
UID:29670-1782604800-1782950399@jobstars.com
SUMMARY:ASCD Annual Conference
DESCRIPTION:ASCD Annual Conference\, hosted by the Association for Supervision and Curriculum Development\, is a premier event for educators and education professionals\, focusing on the latest trends\, strategies\, and innovations in teaching\, learning\, and educational leadership. The most common attendees include teachers\, school administrators\, education consultants\, curriculum developers\, and policymakers. Key industries represented are education\, administration\, curriculum design\, and professional development. The event offers educational sessions\, networking opportunities\, and insights into improving teaching practices and student success. Click the link below to learn more and register for this event. \nhttps://event.ascd.org/2026/
URL:https://jobstars.com/event/ascd-annual-conference/
LOCATION:Orlando\, FL
CATEGORIES:Professional Conference
ATTACH;FMTTYPE=image/png:https://jobstars.com/wp-content/uploads/2021/12/Association-for-Supervision-and-Curriculum-Development.png
END:VEVENT
BEGIN:VEVENT
DTSTART;VALUE=DATE:20260629
DTEND;VALUE=DATE:20260703
DTSTAMP:20260424T104709
CREATED:20211201T213415Z
LAST-MODIFIED:20250901T225940Z
UID:29569-1782691200-1783036799@jobstars.com
SUMMARY:NASFAA National Conference
DESCRIPTION:NASFAA National Conference hosted by the National Association of Student Financial Aid Administrators brings together financial aid professionals\, higher education leaders\, and industry experts to explore trends\, regulations\, and best practices in student financial aid. The most common attendees include financial aid directors\, counselors\, enrollment managers\, compliance officers\, and student services professionals. Key industries represented are higher education\, student services\, finance\, and government. Click the link below to learn more and register for this event. \nhttps://www.nasfaa.org/conference
URL:https://jobstars.com/event/nasfaa-national-conference/
LOCATION:National Harbor\, MD
CATEGORIES:Professional Conference
ATTACH;FMTTYPE=image/jpeg:https://jobstars.com/wp-content/uploads/2021/12/National-Association-of-Student-Financial-Aid-Administrators.jpg
END:VEVENT
END:VCALENDAR