BEGIN:VCALENDAR
VERSION:2.0
PRODID:-//JobStars USA - ECPv6.15.18//NONSGML v1.0//EN
CALSCALE:GREGORIAN
METHOD:PUBLISH
X-ORIGINAL-URL:https://jobstars.com
X-WR-CALDESC:Events for JobStars USA
REFRESH-INTERVAL;VALUE=DURATION:PT1H
X-Robots-Tag:noindex
X-PUBLISHED-TTL:PT1H
BEGIN:VTIMEZONE
TZID:UTC
BEGIN:STANDARD
TZOFFSETFROM:+0000
TZOFFSETTO:+0000
TZNAME:UTC
DTSTART:20250101T000000
END:STANDARD
END:VTIMEZONE
BEGIN:VEVENT
DTSTART;VALUE=DATE:20260317
DTEND;VALUE=DATE:20260320
DTSTAMP:20260420T091425
CREATED:20251102T193947Z
LAST-MODIFIED:20251102T193947Z
UID:295372-1773705600-1773964799@jobstars.com
SUMMARY:AIAA Defense Forum
DESCRIPTION:AIAA Defense Forum\, hosted by the American Institute of Aeronautics and Astronautics\, brings together defense leaders\, engineers\, scientists\, and policymakers to discuss emerging technologies and strategies that strengthen national security. Attendees participate in classified and unclassified sessions focused on aerospace defense systems\, hypersonics\, cybersecurity\, and space operations. Key industries represented include defense\, aerospace\, government\, and research. Click the link below to learn more and register for this event. \nhttps://aiaa.org/defense/
URL:https://jobstars.com/event/aiaa-defense-forum/
LOCATION:Laurel\, MD
CATEGORIES:Professional Conference
ATTACH;FMTTYPE=image/jpeg:https://jobstars.com/wp-content/uploads/2021/12/American-Institute-of-Aeronautics-and-Astronautics.jpg
END:VEVENT
END:VCALENDAR