BEGIN:VCALENDAR
VERSION:2.0
PRODID:-//JobStars USA - ECPv6.15.18//NONSGML v1.0//EN
CALSCALE:GREGORIAN
METHOD:PUBLISH
X-WR-CALNAME:JobStars USA
X-ORIGINAL-URL:https://jobstars.com
X-WR-CALDESC:Events for JobStars USA
REFRESH-INTERVAL;VALUE=DURATION:PT1H
X-Robots-Tag:noindex
X-PUBLISHED-TTL:PT1H
BEGIN:VTIMEZONE
TZID:UTC
BEGIN:STANDARD
TZOFFSETFROM:+0000
TZOFFSETTO:+0000
TZNAME:UTC
DTSTART:20250101T000000
END:STANDARD
END:VTIMEZONE
BEGIN:VEVENT
DTSTART;VALUE=DATE:20260418
DTEND;VALUE=DATE:20260423
DTSTAMP:20260423T151132
CREATED:20211204T161348Z
LAST-MODIFIED:20251127T224506Z
UID:29734-1776470400-1776902399@jobstars.com
SUMMARY:NAB Show
DESCRIPTION:NAB Show\, hosted by the National Association of Broadcasters\, is a premier event for media\, entertainment\, and technology professionals\, showcasing innovations in broadcasting\, content creation\, and digital media. The most common attendees include broadcasters\, content creators\, engineers\, producers\, and digital media professionals. Key industries represented are broadcasting\, entertainment\, media\, technology\, and production. Click the link below to learn more and register for this event. \nhttps://www.nabshow.com/
URL:https://jobstars.com/event/nab-show/
LOCATION:Las Vegas\, NV
CATEGORIES:Professional Conference
ATTACH;FMTTYPE=image/jpeg:https://jobstars.com/wp-content/uploads/2021/12/National-Association-of-Broadcasters.jpg
END:VEVENT
BEGIN:VEVENT
DTSTART;VALUE=DATE:20260419
DTEND;VALUE=DATE:20260423
DTSTAMP:20260423T151132
CREATED:20211204T162319Z
LAST-MODIFIED:20251127T230946Z
UID:29740-1776556800-1776902399@jobstars.com
SUMMARY:Total Rewards
DESCRIPTION:Total Rewards\, hosted by WorldatWork\, is the premier event for compensation and benefits professionals\, offering insights into trends\, strategies\, and best practices in total rewards management. The most common attendees include HR executives\, compensation analysts\, benefits managers\, and payroll specialists from corporate HR\, healthcare\, and financial services. Click the link below to learn more and register for this event. \nhttps://totalrewards.worldatwork.org/2026
URL:https://jobstars.com/event/total-rewards/
LOCATION:San Antonio\, TX
CATEGORIES:Professional Conference
ATTACH;FMTTYPE=image/jpeg:https://jobstars.com/wp-content/uploads/2021/12/WorldatWork.jpg
END:VEVENT
BEGIN:VEVENT
DTSTART;VALUE=DATE:20260419
DTEND;VALUE=DATE:20260423
DTSTAMP:20260423T151132
CREATED:20251129T234534Z
LAST-MODIFIED:20251129T234534Z
UID:300090-1776556800-1776902399@jobstars.com
SUMMARY:ConnexFM Annual Conference
DESCRIPTION:ConnexFM Annual Conference\, hosted by ConnexFM\, brings together facilities managers\, service providers\, consultants\, and industry professionals for three days of educational sessions\, workshops\, and networking. Attendees gain insights into the latest trends in facilities management\, operations\, and maintenance technologies\, with opportunities to earn continuing education credits. Key industries represented include facilities management\, commercial real estate\, and building services. Click the link below to learn more and register for this event. \nhttps://www.national.connexfm.com/
URL:https://jobstars.com/event/connexfm-annual-conference/
LOCATION:Orlando\, FL
CATEGORIES:Professional Conference
ATTACH;FMTTYPE=image/jpeg:https://jobstars.com/wp-content/uploads/2025/11/ConnexFM.jpg
END:VEVENT
BEGIN:VEVENT
DTSTART;VALUE=DATE:20260420
DTEND;VALUE=DATE:20260423
DTSTAMP:20260423T151132
CREATED:20211209T175007Z
LAST-MODIFIED:20251113T181322Z
UID:30786-1776643200-1776902399@jobstars.com
SUMMARY:LMA Annual Conference
DESCRIPTION:LMA Annual Conference\, hosted by the Legal Marketing Association\, is a key event for legal marketing professionals\, offering insights into the latest trends\, strategies\, and tools in marketing within the legal industry. The most common attendees include marketing directors\, business development managers\, communications specialists\, and law firm executives. Key industries represented are legal services\, marketing\, public relations\, and business development. Click the link below to learn more and register for this event. \nhttps://conference.legalmarketing.org/
URL:https://jobstars.com/event/lma-annual-conference/
LOCATION:New Orleans\, LA
CATEGORIES:Professional Conference
ATTACH;FMTTYPE=image/jpeg:https://jobstars.com/wp-content/uploads/2021/12/Legal-Marketing-Association.jpg
END:VEVENT
BEGIN:VEVENT
DTSTART;VALUE=DATE:20260420
DTEND;VALUE=DATE:20260424
DTSTAMP:20260423T151132
CREATED:20211204T153709Z
LAST-MODIFIED:20250901T220115Z
UID:29696-1776643200-1776988799@jobstars.com
SUMMARY:ACMA National Conference
DESCRIPTION:ACMA National Conference hosted by the American Case Management Association is a leading event for case management and transitions of care professionals\, focusing on the latest strategies\, tools\, and trends in patient care management. The most common attendees include case managers\, social workers\, healthcare administrators\, clinicians\, and industry executives. Key industries represented are healthcare\, social services\, hospital administration\, and care management. The event offers educational sessions\, networking opportunities\, and insights into improving patient care and outcomes. Click the link below to learn more and register for this event. \nhttps://events.acmaweb.org/website/84948/home/
URL:https://jobstars.com/event/acma-national-conference/
LOCATION:Orlando\, FL
CATEGORIES:Professional Conference
ATTACH;FMTTYPE=image/jpeg:https://jobstars.com/wp-content/uploads/2021/12/American-Case-Management-Association.jpg
END:VEVENT
BEGIN:VEVENT
DTSTART;VALUE=DATE:20260420
DTEND;VALUE=DATE:20260424
DTSTAMP:20260423T151132
CREATED:20251109T230545Z
LAST-MODIFIED:20251109T230545Z
UID:298336-1776643200-1776988799@jobstars.com
SUMMARY:World of Modular
DESCRIPTION:World of Modular\, hosted by the Modular Building Institute (MBI)\, brings together modular construction professionals\, architects\, engineers\, developers\, and manufacturers to explore the latest advancements in modular design and off-site construction. Attendees participate in educational sessions\, exhibits\, and networking events focused on innovation\, sustainability\, and efficiency in modular building solutions. Key industries represented include construction\, architecture\, engineering\, real estate development\, and manufacturing. Click the link below to learn more and register for this event. \nhttps://www.modular.org/2026-world-of-modular/
URL:https://jobstars.com/event/world-of-modular/
LOCATION:Las Vegas\, NV
CATEGORIES:Professional Conference
ATTACH;FMTTYPE=image/jpeg:https://jobstars.com/wp-content/uploads/2021/12/Modular-Building-Institute.jpg
END:VEVENT
BEGIN:VEVENT
DTSTART;VALUE=DATE:20260421
DTEND;VALUE=DATE:20260424
DTSTAMP:20260423T151132
CREATED:20251109T232946Z
LAST-MODIFIED:20251109T233233Z
UID:298343-1776729600-1776988799@jobstars.com
SUMMARY:NARI Annual Conference
DESCRIPTION:NARI Annual Conference\, hosted by the National Association of the Remodeling Industry\, brings together remodeling professionals\, contractors\, designers\, and industry leaders to share insights and innovations in home renovation and remodeling. Attendees participate in educational sessions\, workshops\, and exhibits focused on project management\, design trends\, business growth\, and craftsmanship. Key industries represented include residential remodeling\, construction\, design\, and home improvement. Click the link below to learn more and register for this event. \nhttps://www.nari.org/Events
URL:https://jobstars.com/event/nari-annual-conference/
LOCATION:Tempe\, AZ
CATEGORIES:Professional Conference
ATTACH;FMTTYPE=image/png:https://jobstars.com/wp-content/uploads/2025/02/National-Association-of-the-Remodeling-Industry.png
END:VEVENT
BEGIN:VEVENT
DTSTART;VALUE=DATE:20260421
DTEND;VALUE=DATE:20260424
DTSTAMP:20260423T151132
CREATED:20251116T032307Z
LAST-MODIFIED:20251116T032307Z
UID:298777-1776729600-1776988799@jobstars.com
SUMMARY:ACA Summit
DESCRIPTION:ACA Summit\, hosted by the Angel Capital Association\, brings together angel investors\, venture capitalists\, startup founders\, and ecosystem leaders to share insights\, investment strategies\, and best practices in early-stage investing. Attendees participate in educational sessions\, panel discussions\, and networking events focused on deal sourcing\, due diligence\, portfolio management\, and fostering entrepreneurship. Key industries represented include venture capital\, private equity\, startups\, and entrepreneurship. Click the link below to learn more and register for this event. \nhttps://events.angelcapitalassociation.org/summit2026
URL:https://jobstars.com/event/aca-summit/
LOCATION:Denver\, CO
CATEGORIES:Professional Conference
ATTACH;FMTTYPE=image/jpeg:https://jobstars.com/wp-content/uploads/2025/10/Angel-Capital-Association.jpg
END:VEVENT
END:VCALENDAR