BEGIN:VCALENDAR
VERSION:2.0
PRODID:-//JobStars USA - ECPv6.15.18//NONSGML v1.0//EN
CALSCALE:GREGORIAN
METHOD:PUBLISH
X-ORIGINAL-URL:https://jobstars.com
X-WR-CALDESC:Events for JobStars USA
REFRESH-INTERVAL;VALUE=DURATION:PT1H
X-Robots-Tag:noindex
X-PUBLISHED-TTL:PT1H
BEGIN:VTIMEZONE
TZID:UTC
BEGIN:STANDARD
TZOFFSETFROM:+0000
TZOFFSETTO:+0000
TZNAME:UTC
DTSTART:20250101T000000
END:STANDARD
END:VTIMEZONE
BEGIN:VEVENT
DTSTART;VALUE=DATE:20260117
DTEND;VALUE=DATE:20260122
DTSTAMP:20260420T111807
CREATED:20211201T202810Z
LAST-MODIFIED:20250318T233206Z
UID:29537-1768608000-1769039999@jobstars.com
SUMMARY:Veterinary Meeting & Expo
DESCRIPTION:Veterinary Meeting & Expo hosted by The North American Veterinary Community brings together veterinarians\, veterinary technicians\, and industry professionals to explore the latest advancements\, products\, and best practices in veterinary medicine. The most common attendees include veterinarians\, veterinary technicians\, clinic managers\, and animal health professionals. Key industries represented are veterinary medicine\, animal health\, pharmaceuticals\, and pet care. Click the link below to learn more and register for this event. \nhttps://navc.com/vmx/
URL:https://jobstars.com/event/veterinary-meeting-expo/
LOCATION:Orlando\, FL
CATEGORIES:Professional Conference,Virtual Event
ATTACH;FMTTYPE=image/jpeg:https://jobstars.com/wp-content/uploads/2021/12/Veterinary-Meeting-Expo.jpg
END:VEVENT
BEGIN:VEVENT
DTSTART;VALUE=DATE:20260118
DTEND;VALUE=DATE:20260123
DTSTAMP:20260420T111807
CREATED:20231202T010545Z
LAST-MODIFIED:20250318T220048Z
UID:81466-1768694400-1769126399@jobstars.com
SUMMARY:SFMA Conference and Exhibition
DESCRIPTION:SFMA Conference and Exhibition hosted by the Sports Field Management Association brings together facility management professionals\, industry experts\, and suppliers to explore the latest trends\, technologies\, and solutions in facilities management and operations. The most common attendees include facility managers\, operations directors\, building engineers\, sustainability experts\, and suppliers. Key industries represented are facilities management\, real estate\, construction\, and sustainability. Click the link below to learn more and register for this event. \nhttps://www.sportsfieldmanagement.org/conference/
URL:https://jobstars.com/event/sfma-conference-and-exhibition/
LOCATION:Fort Worth\, TX
CATEGORIES:Professional Conference
ATTACH;FMTTYPE=image/jpeg:https://jobstars.com/wp-content/uploads/2023/12/Sports-Field-Management-Association.jpg
END:VEVENT
BEGIN:VEVENT
DTSTART;VALUE=DATE:20260120
DTEND;VALUE=DATE:20260123
DTSTAMP:20260420T111807
CREATED:20251109T234410Z
LAST-MODIFIED:20251109T234410Z
UID:298349-1768867200-1769126399@jobstars.com
SUMMARY:International Roofing Expo
DESCRIPTION:International Roofing Expo\, hosted by the National Roofing Contractors Association\, brings together roofing contractors\, manufacturers\, suppliers\, and industry professionals for education\, networking\, and product showcases. Attendees participate in technical sessions\, workshops\, and exhibits focused on roofing technology\, installation best practices\, safety\, and business management. Key industries represented include roofing\, construction\, building materials\, and facilities management. Click the link below to learn more and register for this event. \nhttps://www.theroofingexpo.com/en/home.html
URL:https://jobstars.com/event/international-roofing-expo/
LOCATION:Las Vegas\, NV
CATEGORIES:Professional Conference
ATTACH;FMTTYPE=image/png:https://jobstars.com/wp-content/uploads/2025/11/National-Roofing-Contractors-Association.png
END:VEVENT
BEGIN:VEVENT
DTSTART;VALUE=DATE:20260120
DTEND;VALUE=DATE:20260125
DTSTAMP:20260420T111807
CREATED:20250326T031920Z
LAST-MODIFIED:20251113T054002Z
UID:267369-1768867200-1769299199@jobstars.com
SUMMARY:The NAMM Show
DESCRIPTION:The NAMM Show\, hosted by the National Association of Music Merchants\, brings together professionals from the music\, sound\, and entertainment technology industries to showcase the latest products\, innovations\, and trends. The most common attendees include music retailers\, manufacturers\, audio engineers\, artists\, and industry executives. Key industries represented are music\, audio technology\, entertainment\, and event production. Click the link below to learn more and register for this event. \nhttps://www.namm.org/thenammshow/attend
URL:https://jobstars.com/event/the-namm-show/
LOCATION:Anaheim\, CA
CATEGORIES:Professional Conference
ATTACH;FMTTYPE=image/png:https://jobstars.com/wp-content/uploads/2025/02/National-Association-of-Music-Merchants-I.png
END:VEVENT
BEGIN:VEVENT
DTSTART;VALUE=DATE:20260121
DTEND;VALUE=DATE:20260124
DTSTAMP:20260420T111807
CREATED:20251109T221447Z
LAST-MODIFIED:20251109T221447Z
UID:298320-1768953600-1769212799@jobstars.com
SUMMARY:APA National Conference
DESCRIPTION:APA National Conference\, hosted by the Accessibility Professionals Association (APA)\, brings together accessibility professionals\, architects\, engineers\, compliance officers\, and facility managers to explore current issues and innovations in the built‑environment accessibility field. Attendees participate in technical sessions\, workshops\, and an exhibit hall focused on accessibility standards\, universal design practices\, regulatory compliance\, and inclusive project execution. Key industries represented include architecture\, construction\, facilities management\, government compliance\, and consulting. Click the link below to learn more and register for this event. \nhttps://www.apaaccess.org/apa-national-conference/
URL:https://jobstars.com/event/apa-national-conference/
LOCATION:Austin\, TX
CATEGORIES:Professional Conference
ATTACH;FMTTYPE=image/png:https://jobstars.com/wp-content/uploads/2021/12/Accessibility-Professionals-Association.png
END:VEVENT
END:VCALENDAR