BEGIN:VCALENDAR
VERSION:2.0
PRODID:-//JobStars USA - ECPv6.15.18//NONSGML v1.0//EN
CALSCALE:GREGORIAN
METHOD:PUBLISH
X-ORIGINAL-URL:https://jobstars.com
X-WR-CALDESC:Events for JobStars USA
REFRESH-INTERVAL;VALUE=DURATION:PT1H
X-Robots-Tag:noindex
X-PUBLISHED-TTL:PT1H
BEGIN:VTIMEZONE
TZID:UTC
BEGIN:STANDARD
TZOFFSETFROM:+0000
TZOFFSETTO:+0000
TZNAME:UTC
DTSTART:20250101T000000
END:STANDARD
END:VTIMEZONE
BEGIN:VEVENT
DTSTART;VALUE=DATE:20260111
DTEND;VALUE=DATE:20260115
DTSTAMP:20260420T090702
CREATED:20251114T230811Z
LAST-MODIFIED:20251114T230811Z
UID:298711-1768089600-1768435199@jobstars.com
SUMMARY:PCMA Convening Leaders
DESCRIPTION:PCMA Convening Leaders\, hosted by the Professional Convention Management Association\, brings together meeting planners\, event professionals\, corporate executives\, and industry experts to share knowledge\, trends\, and innovations in business events and professional meetings. Attendees participate in educational sessions\, workshops\, and networking events focused on event strategy\, attendee engagement\, technology\, and business growth. Key industries represented include meetings and events\, hospitality\, corporate planning\, and event technology. Click the link below to learn more and register for this event. \nhttps://conveningleaders.org/
URL:https://jobstars.com/event/pcma-convening-leaders/
LOCATION:Philadelphia\, PA
CATEGORIES:Professional Conference
ATTACH;FMTTYPE=image/jpeg:https://jobstars.com/wp-content/uploads/2021/12/Professional-Convention-Management-Association.jpg
END:VEVENT
BEGIN:VEVENT
DTSTART;VALUE=DATE:20260112
DTEND;VALUE=DATE:20260117
DTSTAMP:20260420T090702
CREATED:20251102T193100Z
LAST-MODIFIED:20251102T194342Z
UID:295367-1768176000-1768607999@jobstars.com
SUMMARY:AIAA SciTech Forum
DESCRIPTION:AIAA SciTech Forum\, hosted by the American Institute of Aeronautics and Astronautics\, brings together engineers\, scientists\, researchers\, and industry leaders to advance innovation in aerospace science and technology. Attendees engage in technical sessions\, panel discussions\, and exhibits covering topics such as aerodynamics\, propulsion\, materials\, and space systems. Key industries represented include aerospace\, defense\, research\, and academia. Click the link below to learn more and register for this event. \nhttps://scitech.aiaa.org/
URL:https://jobstars.com/event/aiaa-scitech-forum/
LOCATION:Orlando\, FL
CATEGORIES:Professional Conference
ATTACH;FMTTYPE=image/jpeg:https://jobstars.com/wp-content/uploads/2021/12/American-Institute-of-Aeronautics-and-Astronautics.jpg
END:VEVENT
BEGIN:VEVENT
DTSTART;VALUE=DATE:20260114
DTEND;VALUE=DATE:20260117
DTSTAMP:20260420T090702
CREATED:20211206T203811Z
LAST-MODIFIED:20250901T213835Z
UID:30759-1768348800-1768607999@jobstars.com
SUMMARY:ASAP Annual Conference
DESCRIPTION:ASAP Annual Conference hosted by the American Society for Automation in Pharmacy is a leading event for professionals in pharmacy automation\, focusing on the latest technologies\, innovations\, and best practices in pharmacy automation systems and processes. The most common attendees include pharmacy directors\, automation specialists\, pharmacists\, technology vendors\, and healthcare professionals. Key industries represented are pharmacy\, healthcare\, technology\, and automation. The event offers educational sessions\, networking opportunities\, and insights into enhancing pharmacy efficiency\, accuracy\, and patient care through automation. Click the link below to learn more and register for this event. \nhttps://asapnet.org/registration/
URL:https://jobstars.com/event/asap-annual-conference/
LOCATION:Ponte Vedra Beach\, FL
CATEGORIES:Professional Conference
ATTACH;FMTTYPE=image/png:https://jobstars.com/wp-content/uploads/2021/12/American-Society-for-Automation-in-Pharmacy.png
END:VEVENT
END:VCALENDAR